BEGIN:VCALENDAR
VERSION:2.0
PRODID:-// - ECPv6.6.4.2//NONSGML v1.0//EN
CALSCALE:GREGORIAN
METHOD:PUBLISH
X-ORIGINAL-URL:https://www.ffessm95.fr
X-WR-CALDESC:évènements pour 
REFRESH-INTERVAL;VALUE=DURATION:PT1H
X-Robots-Tag:noindex
X-PUBLISHED-TTL:PT1H
BEGIN:VTIMEZONE
TZID:Europe/Paris
BEGIN:DAYLIGHT
TZOFFSETFROM:+0100
TZOFFSETTO:+0200
TZNAME:CEST
DTSTART:20260329T010000
END:DAYLIGHT
BEGIN:STANDARD
TZOFFSETFROM:+0200
TZOFFSETTO:+0100
TZNAME:CET
DTSTART:20261025T010000
END:STANDARD
END:VTIMEZONE
BEGIN:VEVENT
DTSTART;VALUE=DATE:20260426
DTEND;VALUE=DATE:20260427
DTSTAMP:20260426T020220
CREATED:20250629T045351Z
LAST-MODIFIED:20250802T154400Z
UID:3616-1777161600-1777247999@www.ffessm95.fr
SUMMARY:Intervention extérieure CODEP
DESCRIPTION:
URL:https://www.ffessm95.fr/event/intervention-exterieure-codep-22/
LOCATION:CODEP 95\, 42 rue de Paris\, Franconville\, 95130\, France
CATEGORIES:Codep
ATTACH;FMTTYPE=image/png:https://www.ffessm95.fr/wp-content/uploads/2024/11/Logo-CD95.png
END:VEVENT
END:VCALENDAR