BEGIN:VCALENDAR
VERSION:2.0
PRODID:-// - ECPv6.6.4.2//NONSGML v1.0//EN
CALSCALE:GREGORIAN
METHOD:PUBLISH
X-ORIGINAL-URL:https://www.ffessm95.fr
X-WR-CALDESC:évènements pour 
REFRESH-INTERVAL;VALUE=DURATION:PT1H
X-Robots-Tag:noindex
X-PUBLISHED-TTL:PT1H
BEGIN:VTIMEZONE
TZID:Europe/Paris
BEGIN:DAYLIGHT
TZOFFSETFROM:+0100
TZOFFSETTO:+0200
TZNAME:CEST
DTSTART:20260329T010000
END:DAYLIGHT
BEGIN:STANDARD
TZOFFSETFROM:+0200
TZOFFSETTO:+0100
TZNAME:CET
DTSTART:20261025T010000
END:STANDARD
END:VTIMEZONE
BEGIN:VEVENT
DTSTART;TZID=Europe/Paris:20260423T080000
DTEND;TZID=Europe/Paris:20260425T120000
DTSTAMP:20260423T014256
CREATED:20251113T193854Z
LAST-MODIFIED:20251113T193854Z
UID:4176-1776931200-1777118400@www.ffessm95.fr
SUMMARY:Stage Nitrox Confirmé
DESCRIPTION:Programme\n\n5 plongées\, dont 4 spécifiquement dédiées à la formation Nitrox Confirmé\nFormation théorique préalable au stage (modalités à définir : visio ou en présentiel à Ennery)\nHébergement en pension complète à l’Hôtel Beauséjour (chambres de 2 à 3)\nCertification FFESSM « Plongeur Nitrox Confirmé »\n\nTarif et inscription\nTarif : 600 €\nCe tarif inclut : \n\nLes plongées avec blocs\, plombs et gonflage air\nLa location des blocs pour les plongées de formation\nLa pension complète sur place\nLa carte de certification Nitrox Confirmé\n\nAttention : Oxygène utilisé à régler sur place \n📝 S’inscrire au stage
URL:https://www.ffessm95.fr/event/stage-nitrox-confirme/
LOCATION:Saint Raphaël\, 155 Quai Amiral Nomy\, Saint-Raphaël\, 83700\, France
CATEGORIES:Technique
END:VEVENT
END:VCALENDAR